BEGIN:VCALENDAR
VERSION:2.0
PRODID:-//Lutheran Church of Our Redeemer - ECPv6.15.20//NONSGML v1.0//EN
CALSCALE:GREGORIAN
METHOD:PUBLISH
X-ORIGINAL-URL:https://lcor.org
X-WR-CALDESC:Events for Lutheran Church of Our Redeemer
REFRESH-INTERVAL;VALUE=DURATION:PT1H
X-Robots-Tag:noindex
X-PUBLISHED-TTL:PT1H
BEGIN:VTIMEZONE
TZID:UTC
BEGIN:STANDARD
TZOFFSETFROM:+0000
TZOFFSETTO:+0000
TZNAME:UTC
DTSTART:20230101T000000
END:STANDARD
END:VTIMEZONE
BEGIN:VEVENT
DTSTART;TZID=UTC:20241123T111500
DTEND;TZID=UTC:20241123T200000
DTSTAMP:20260422T110137
CREATED:20241113T200045Z
LAST-MODIFIED:20241113T200325Z
UID:10002440-1732360500-1732392000@lcor.org
SUMMARY:Field Trip
DESCRIPTION:Field Trip to Church of the Transfiguration\, Orleans.  See bulletin board for more information.
URL:https://lcor.org/events-calendar/field-trip/
CATEGORIES:Community Life
END:VEVENT
END:VCALENDAR