BEGIN:VCALENDAR
VERSION:2.0
PRODID:-//Lutheran Church of Our Redeemer - ECPv6.15.20//NONSGML v1.0//EN
CALSCALE:GREGORIAN
METHOD:PUBLISH
X-ORIGINAL-URL:https://lcor.org
X-WR-CALDESC:Events for Lutheran Church of Our Redeemer
REFRESH-INTERVAL;VALUE=DURATION:PT1H
X-Robots-Tag:noindex
X-PUBLISHED-TTL:PT1H
BEGIN:VTIMEZONE
TZID:UTC
BEGIN:STANDARD
TZOFFSETFROM:+0000
TZOFFSETTO:+0000
TZNAME:UTC
DTSTART:20230101T000000
END:STANDARD
END:VTIMEZONE
BEGIN:VEVENT
DTSTART;VALUE=DATE:20241027
DTEND;VALUE=DATE:20241028
DTSTAMP:20260422T110138
CREATED:20241005T020859Z
LAST-MODIFIED:20241005T020859Z
UID:10002395-1729987200-1730073599@lcor.org
SUMMARY:Stewardship Campaign
DESCRIPTION:
URL:https://lcor.org/events-calendar/stewardship-campaign-2/
CATEGORIES:Stewardship Committee
END:VEVENT
BEGIN:VEVENT
DTSTART;TZID=UTC:20241027T083000
DTEND;TZID=UTC:20241027T083000
DTSTAMP:20260422T110138
CREATED:20240907T214628Z
LAST-MODIFIED:20240907T214628Z
UID:10002366-1730017800-1730017800@lcor.org
SUMMARY:Contemporary Worship
DESCRIPTION:
URL:https://lcor.org/events-calendar/contemporary-worship-5/2024-10-27/
CATEGORIES:Worship & Music
END:VEVENT
BEGIN:VEVENT
DTSTART;TZID=UTC:20241027T091500
DTEND;TZID=UTC:20241027T091500
DTSTAMP:20260422T110138
CREATED:20240907T214829Z
LAST-MODIFIED:20241005T021542Z
UID:10002370-1730020500-1730020500@lcor.org
SUMMARY:Fellowship; Sunday School - 9:30am
DESCRIPTION:
URL:https://lcor.org/events-calendar/fellowship-3/2024-10-27/
CATEGORIES:Christian Education,Community Life
END:VEVENT
BEGIN:VEVENT
DTSTART;TZID=UTC:20241027T103000
DTEND;TZID=UTC:20241027T103000
DTSTAMP:20260422T110138
CREATED:20240907T214936Z
LAST-MODIFIED:20240907T214936Z
UID:10002374-1730025000-1730025000@lcor.org
SUMMARY:Traditional Worship
DESCRIPTION:
URL:https://lcor.org/events-calendar/traditional-worship-5/2024-10-27/
CATEGORIES:Worship & Music
END:VEVENT
END:VCALENDAR