BEGIN:VCALENDAR
VERSION:2.0
PRODID:-//Lutheran Church of Our Redeemer - ECPv6.15.20//NONSGML v1.0//EN
CALSCALE:GREGORIAN
METHOD:PUBLISH
X-ORIGINAL-URL:https://lcor.org
X-WR-CALDESC:Events for Lutheran Church of Our Redeemer
REFRESH-INTERVAL;VALUE=DURATION:PT1H
X-Robots-Tag:noindex
X-PUBLISHED-TTL:PT1H
BEGIN:VTIMEZONE
TZID:UTC
BEGIN:STANDARD
TZOFFSETFROM:+0000
TZOFFSETTO:+0000
TZNAME:UTC
DTSTART:20230101T000000
END:STANDARD
END:VTIMEZONE
BEGIN:VEVENT
DTSTART;TZID=UTC:20240922T083000
DTEND;TZID=UTC:20240922T083000
DTSTAMP:20260422T135746
CREATED:20240907T211609Z
LAST-MODIFIED:20240907T215731Z
UID:10002357-1726993800-1726993800@lcor.org
SUMMARY:Contemporary Worship; Fellowship - 9:15am; Sunday School - 9:30am; Traditional Worship - 10:30am
DESCRIPTION:
URL:https://lcor.org/events-calendar/contemporary-worship-fellowship-915am-sunday-school-930am/2024-09-22/
CATEGORIES:Worship & Music
END:VEVENT
BEGIN:VEVENT
DTSTART;TZID=UTC:20240922T114500
DTEND;TZID=UTC:20240922T114500
DTSTAMP:20260422T135746
CREATED:20240907T215930Z
LAST-MODIFIED:20240907T215930Z
UID:10002375-1727005500-1727005500@lcor.org
SUMMARY:Dedication of Picnic Area
DESCRIPTION:
URL:https://lcor.org/events-calendar/dedication-of-picnic-area/
CATEGORIES:Community Life
END:VEVENT
BEGIN:VEVENT
DTSTART;TZID=UTC:20240922T140000
DTEND;TZID=UTC:20240922T153000
DTSTAMP:20260422T135746
CREATED:20240907T210237Z
LAST-MODIFIED:20240907T210237Z
UID:10002355-1727013600-1727019000@lcor.org
SUMMARY:First Communion Class
DESCRIPTION:
URL:https://lcor.org/events-calendar/first-communion-class-4/
CATEGORIES:Christian Education
END:VEVENT
END:VCALENDAR