BEGIN:VCALENDAR
VERSION:2.0
PRODID:-//Lutheran Church of Our Redeemer - ECPv6.15.20//NONSGML v1.0//EN
CALSCALE:GREGORIAN
METHOD:PUBLISH
X-ORIGINAL-URL:https://lcor.org
X-WR-CALDESC:Events for Lutheran Church of Our Redeemer
REFRESH-INTERVAL;VALUE=DURATION:PT1H
X-Robots-Tag:noindex
X-PUBLISHED-TTL:PT1H
BEGIN:VTIMEZONE
TZID:UTC
BEGIN:STANDARD
TZOFFSETFROM:+0000
TZOFFSETTO:+0000
TZNAME:UTC
DTSTART:20230101T000000
END:STANDARD
END:VTIMEZONE
BEGIN:VEVENT
DTSTART;TZID=UTC:20240915T083000
DTEND;TZID=UTC:20240915T083000
DTSTAMP:20260422T135746
CREATED:20240907T204610Z
LAST-MODIFIED:20240907T210922Z
UID:10002341-1726389000-1726389000@lcor.org
SUMMARY:Contemporary Worship
DESCRIPTION:
URL:https://lcor.org/events-calendar/contemporary-worship-4/2024-09-15/
CATEGORIES:Worship & Music
END:VEVENT
BEGIN:VEVENT
DTSTART;TZID=UTC:20240915T091500
DTEND;TZID=UTC:20240915T091500
DTSTAMP:20260422T135746
CREATED:20240907T205418Z
LAST-MODIFIED:20240907T211040Z
UID:10002346-1726391700-1726391700@lcor.org
SUMMARY:Fellowship 9:15 AM; Sunday School 9:30 AM
DESCRIPTION:
URL:https://lcor.org/events-calendar/fellowship-915-am-sunday-school-930-am/2024-09-15/
CATEGORIES:Sunday School
END:VEVENT
BEGIN:VEVENT
DTSTART;TZID=UTC:20240915T103000
DTEND;TZID=UTC:20240915T103000
DTSTAMP:20260422T135746
CREATED:20240907T205715Z
LAST-MODIFIED:20240907T215515Z
UID:10002351-1726396200-1726396200@lcor.org
SUMMARY:Traditional Worship
DESCRIPTION:
URL:https://lcor.org/events-calendar/traditional-worship-4/2024-09-15/
CATEGORIES:Worship & Music
END:VEVENT
END:VCALENDAR