BEGIN:VCALENDAR
VERSION:2.0
PRODID:-//Lutheran Church of Our Redeemer - ECPv6.15.20//NONSGML v1.0//EN
CALSCALE:GREGORIAN
METHOD:PUBLISH
X-WR-CALNAME:Lutheran Church of Our Redeemer
X-ORIGINAL-URL:https://lcor.org
X-WR-CALDESC:Events for Lutheran Church of Our Redeemer
REFRESH-INTERVAL;VALUE=DURATION:PT1H
X-Robots-Tag:noindex
X-PUBLISHED-TTL:PT1H
BEGIN:VTIMEZONE
TZID:UTC
BEGIN:STANDARD
TZOFFSETFROM:+0000
TZOFFSETTO:+0000
TZNAME:UTC
DTSTART:20230101T000000
END:STANDARD
END:VTIMEZONE
BEGIN:VEVENT
DTSTART;TZID=UTC:20240818T083000
DTEND;TZID=UTC:20240818T083000
DTSTAMP:20260422T151646
CREATED:20240509T210803Z
LAST-MODIFIED:20240509T211056Z
UID:10001877-1723969800-1723969800@lcor.org
SUMMARY:Contemporary Worship Service
DESCRIPTION:Join us Sundays at 8:30 am for our Contemporary Worship Service with Holy Communion. \nFor questions or to inquire more information\, please contact office@lcor.org.
URL:https://lcor.org/events-calendar/contemporary-worship-service-2/2024-08-18/
CATEGORIES:Worship & Music
END:VEVENT
BEGIN:VEVENT
DTSTART;TZID=UTC:20240818T093000
DTEND;TZID=UTC:20240818T093000
DTSTAMP:20260422T151646
CREATED:20240509T211433Z
LAST-MODIFIED:20240509T211433Z
UID:10001905-1723973400-1723973400@lcor.org
SUMMARY:Fellowship
DESCRIPTION:Join us on Sundays between worship services for an opportunity of fellowship\, coffee and conversation! \nFor more information\, you can reach us at office@lcor.org.
URL:https://lcor.org/events-calendar/fellowship-2/2024-08-18/
END:VEVENT
BEGIN:VEVENT
DTSTART;TZID=UTC:20240818T100000
DTEND;TZID=UTC:20240818T100000
DTSTAMP:20260422T151646
CREATED:20240509T211033Z
LAST-MODIFIED:20240509T211033Z
UID:10001891-1723975200-1723975200@lcor.org
SUMMARY:Traditional Worship Service
DESCRIPTION:Join us Sundays at 10:00 am for our Traditional Worship Service with Holy Communion. \nFor questions or to inquire more information\, please contact office@lcor.org.
URL:https://lcor.org/events-calendar/traditional-worship-service-4/2024-08-18/
CATEGORIES:Worship & Music
END:VEVENT
END:VCALENDAR