BEGIN:VCALENDAR
VERSION:2.0
PRODID:-//Lutheran Church of Our Redeemer - ECPv6.15.20//NONSGML v1.0//EN
CALSCALE:GREGORIAN
METHOD:PUBLISH
X-WR-CALNAME:Lutheran Church of Our Redeemer
X-ORIGINAL-URL:https://lcor.org
X-WR-CALDESC:Events for Lutheran Church of Our Redeemer
REFRESH-INTERVAL;VALUE=DURATION:PT1H
X-Robots-Tag:noindex
X-PUBLISHED-TTL:PT1H
BEGIN:VTIMEZONE
TZID:UTC
BEGIN:STANDARD
TZOFFSETFROM:+0000
TZOFFSETTO:+0000
TZNAME:UTC
DTSTART:20230101T000000
END:STANDARD
END:VTIMEZONE
BEGIN:VEVENT
DTSTART;VALUE=DATE:20240518
DTEND;VALUE=DATE:20240519
DTSTAMP:20260422T222340
CREATED:20240501T221655Z
LAST-MODIFIED:20240501T221655Z
UID:10001865-1715990400-1716076799@lcor.org
SUMMARY:Newsletter Deadline
DESCRIPTION:
URL:https://lcor.org/events-calendar/newsletter-deadline-8/
CATEGORIES:Administration
END:VEVENT
BEGIN:VEVENT
DTSTART;TZID=UTC:20240518T081500
DTEND;TZID=UTC:20240518T120000
DTSTAMP:20260422T222340
CREATED:20240501T221551Z
LAST-MODIFIED:20240501T221551Z
UID:10001864-1716020100-1716033600@lcor.org
SUMMARY:Food-N-Friends
DESCRIPTION:
URL:https://lcor.org/events-calendar/food-n-friends-4/
CATEGORIES:Social Ministry
END:VEVENT
END:VCALENDAR