BEGIN:VCALENDAR
VERSION:2.0
PRODID:-//Lutheran Church of Our Redeemer - ECPv6.15.20//NONSGML v1.0//EN
CALSCALE:GREGORIAN
METHOD:PUBLISH
X-ORIGINAL-URL:https://lcor.org
X-WR-CALDESC:Events for Lutheran Church of Our Redeemer
REFRESH-INTERVAL;VALUE=DURATION:PT1H
X-Robots-Tag:noindex
X-PUBLISHED-TTL:PT1H
BEGIN:VTIMEZONE
TZID:UTC
BEGIN:STANDARD
TZOFFSETFROM:+0000
TZOFFSETTO:+0000
TZNAME:UTC
DTSTART:20230101T000000
END:STANDARD
END:VTIMEZONE
BEGIN:VEVENT
DTSTART;TZID=UTC:20240319T183000
DTEND;TZID=UTC:20240319T183000
DTSTAMP:20260423T000942
CREATED:20240229T223913Z
LAST-MODIFIED:20240229T223913Z
UID:10001838-1710873000-1710873000@lcor.org
SUMMARY:Social Ministry Meeting
DESCRIPTION:For more information\, please contact us at office@lcor.org.
URL:https://lcor.org/events-calendar/social-ministry-meeting-5/
CATEGORIES:Social Ministry
END:VEVENT
END:VCALENDAR