BEGIN:VCALENDAR
VERSION:2.0
PRODID:-//Lutheran Church of Our Redeemer - ECPv6.15.20//NONSGML v1.0//EN
CALSCALE:GREGORIAN
METHOD:PUBLISH
X-ORIGINAL-URL:https://lcor.org
X-WR-CALDESC:Events for Lutheran Church of Our Redeemer
REFRESH-INTERVAL;VALUE=DURATION:PT1H
X-Robots-Tag:noindex
X-PUBLISHED-TTL:PT1H
BEGIN:VTIMEZONE
TZID:UTC
BEGIN:STANDARD
TZOFFSETFROM:+0000
TZOFFSETTO:+0000
TZNAME:UTC
DTSTART:20230101T000000
END:STANDARD
END:VTIMEZONE
BEGIN:VEVENT
DTSTART;TZID=UTC:20240107T083000
DTEND;TZID=UTC:20240107T083000
DTSTAMP:20260423T105921
CREATED:20230802T172019Z
LAST-MODIFIED:20230802T173611Z
UID:10001581-1704616200-1704616200@lcor.org
SUMMARY:Contemporary Worship
DESCRIPTION:Join us Sundays at 8:30 am for our Contemporary Worship Service. \nFor questions or to inquire more information\, please contact office@lcor.org.
URL:https://lcor.org/events-calendar/contemporary-worship-2/2024-01-07/
CATEGORIES:Worship & Music
END:VEVENT
BEGIN:VEVENT
DTSTART;TZID=UTC:20240107T093000
DTEND;TZID=UTC:20240107T093000
DTSTAMP:20260423T105921
CREATED:20230802T172728Z
LAST-MODIFIED:20230907T152204Z
UID:10001731-1704619800-1704619800@lcor.org
SUMMARY:Fellowship; Christian Ed.
DESCRIPTION:Join us for an opportunity to connect\, chat\, socialize and learn between our Sunday Worship Services. Visit our Adult Sunday School Page to see the upcoming schedule.
URL:https://lcor.org/events-calendar/coffee-and-fellowship-2023-09-24/2024-01-07/
CATEGORIES:Social Event
END:VEVENT
BEGIN:VEVENT
DTSTART;TZID=UTC:20240107T103000
DTEND;TZID=UTC:20240107T103000
DTSTAMP:20260423T105921
CREATED:20230802T173432Z
LAST-MODIFIED:20230807T162503Z
UID:10001620-1704623400-1704623400@lcor.org
SUMMARY:Traditional Worship
DESCRIPTION:Join us Sundays at 10:30 am for our Traditional Worship Service. \nFor questions or to inquire more information\, please contact office@lcor.org.
URL:https://lcor.org/events-calendar/traditional-worship-service/2024-01-07/
CATEGORIES:Worship & Music
END:VEVENT
BEGIN:VEVENT
DTSTART;TZID=UTC:20240107T120000
DTEND;TZID=UTC:20240107T120000
DTSTAMP:20260423T105921
CREATED:20231221T143924Z
LAST-MODIFIED:20231221T143924Z
UID:10001803-1704628800-1704628800@lcor.org
SUMMARY:Community Life Lunch
DESCRIPTION:Join us every 1st Sunday of the month for lunch after church. This is an opportunity for good food\, fun and fellowship. For more details\, email us at office@lcor.org.
URL:https://lcor.org/events-calendar/community-life-lunch/
CATEGORIES:Community Life
END:VEVENT
BEGIN:VEVENT
DTSTART;TZID=UTC:20240107T183000
DTEND;TZID=UTC:20240107T183000
DTSTAMP:20260423T105921
CREATED:20230907T161307Z
LAST-MODIFIED:20230907T161307Z
UID:10001439-1704652200-1704652200@lcor.org
SUMMARY:Confirmation Class
DESCRIPTION:
URL:https://lcor.org/events-calendar/confirmation-class-5/2024-01-07/
CATEGORIES:Christian Education
END:VEVENT
END:VCALENDAR