BEGIN:VCALENDAR
VERSION:2.0
PRODID:-//Lutheran Church of Our Redeemer - ECPv6.15.20//NONSGML v1.0//EN
CALSCALE:GREGORIAN
METHOD:PUBLISH
X-ORIGINAL-URL:https://lcor.org
X-WR-CALDESC:Events for Lutheran Church of Our Redeemer
REFRESH-INTERVAL;VALUE=DURATION:PT1H
X-Robots-Tag:noindex
X-PUBLISHED-TTL:PT1H
BEGIN:VTIMEZONE
TZID:UTC
BEGIN:STANDARD
TZOFFSETFROM:+0000
TZOFFSETTO:+0000
TZNAME:UTC
DTSTART:20220101T000000
END:STANDARD
END:VTIMEZONE
BEGIN:VEVENT
DTSTART;VALUE=DATE:20231118
DTEND;VALUE=DATE:20231119
DTSTAMP:20260423T100531
CREATED:20231026T192040Z
LAST-MODIFIED:20231026T192040Z
UID:10001790-1700265600-1700351999@lcor.org
SUMMARY:Newsletter Deadline
DESCRIPTION:For more details contact us at office@lcor.org.
URL:https://lcor.org/events-calendar/newsletter-deadline-3/
CATEGORIES:Administration
END:VEVENT
BEGIN:VEVENT
DTSTART;TZID=UTC:20231118T080000
DTEND;TZID=UTC:20231118T120000
DTSTAMP:20260423T100531
CREATED:20231102T142209Z
LAST-MODIFIED:20231102T142209Z
UID:10001794-1700294400-1700308800@lcor.org
SUMMARY:Food 'n' Friends
DESCRIPTION:Join us at the Centenary United Methodist Church in Attleboro to help with time and preparations for the Food’n’Friends Soup Kitchen. For more details contact us at office@lcor.org.
URL:https://lcor.org/events-calendar/food-n-friends-2/
CATEGORIES:Social Ministry
END:VEVENT
END:VCALENDAR