BEGIN:VCALENDAR
VERSION:2.0
PRODID:-//Lutheran Church of Our Redeemer - ECPv6.15.20//NONSGML v1.0//EN
CALSCALE:GREGORIAN
METHOD:PUBLISH
X-ORIGINAL-URL:https://lcor.org
X-WR-CALDESC:Events for Lutheran Church of Our Redeemer
REFRESH-INTERVAL;VALUE=DURATION:PT1H
X-Robots-Tag:noindex
X-PUBLISHED-TTL:PT1H
BEGIN:VTIMEZONE
TZID:UTC
BEGIN:STANDARD
TZOFFSETFROM:+0000
TZOFFSETTO:+0000
TZNAME:UTC
DTSTART:20220101T000000
END:STANDARD
END:VTIMEZONE
BEGIN:VEVENT
DTSTART;TZID=UTC:20231111T083000
DTEND;TZID=UTC:20231111T150000
DTSTAMP:20260423T112635
CREATED:20231004T151428Z
LAST-MODIFIED:20231004T151428Z
UID:10001785-1699691400-1699714800@lcor.org
SUMMARY:Dana-Farber Cancer Institute/Brigham and Women's Hospital Mobile Blood Drive
DESCRIPTION:LCOR is hosting the Dana-Farber Cancer Institute/Brigham and Women’s Hospital Blood Mobile for a community blood drive. Blood donations appointments will be from 8:30am -3:00pm. Once appointments are available to book online\, a link will be sent out. For more information\, email us at office@lcor.org.
URL:https://lcor.org/events-calendar/dana-farber-cancer-institute-brigham-and-womens-hospital-mobile-blood-drive/
CATEGORIES:Social Ministry
END:VEVENT
END:VCALENDAR