BEGIN:VCALENDAR
VERSION:2.0
PRODID:-//Lutheran Church of Our Redeemer - ECPv6.15.20//NONSGML v1.0//EN
CALSCALE:GREGORIAN
METHOD:PUBLISH
X-WR-CALNAME:Lutheran Church of Our Redeemer
X-ORIGINAL-URL:https://lcor.org
X-WR-CALDESC:Events for Lutheran Church of Our Redeemer
REFRESH-INTERVAL;VALUE=DURATION:PT1H
X-Robots-Tag:noindex
X-PUBLISHED-TTL:PT1H
BEGIN:VTIMEZONE
TZID:UTC
BEGIN:STANDARD
TZOFFSETFROM:+0000
TZOFFSETTO:+0000
TZNAME:UTC
DTSTART:20220101T000000
END:STANDARD
END:VTIMEZONE
BEGIN:VEVENT
DTSTART;TZID=UTC:20231029T080000
DTEND;TZID=UTC:20231029T080000
DTSTAMP:20260423T124524
CREATED:20231004T151045Z
LAST-MODIFIED:20231004T151045Z
UID:10001783-1698566400-1698566400@lcor.org
SUMMARY:Giving Sunday
DESCRIPTION:
URL:https://lcor.org/events-calendar/giving-sunday/
CATEGORIES:Stewardship Committee
END:VEVENT
BEGIN:VEVENT
DTSTART;TZID=UTC:20231029T083000
DTEND;TZID=UTC:20231029T083000
DTSTAMP:20260423T124524
CREATED:20230802T172019Z
LAST-MODIFIED:20230802T173611Z
UID:10001571-1698568200-1698568200@lcor.org
SUMMARY:Contemporary Worship
DESCRIPTION:Join us Sundays at 8:30 am for our Contemporary Worship Service. \nFor questions or to inquire more information\, please contact office@lcor.org.
URL:https://lcor.org/events-calendar/contemporary-worship-2/2023-10-29/
CATEGORIES:Worship & Music
END:VEVENT
BEGIN:VEVENT
DTSTART;TZID=UTC:20231029T093000
DTEND;TZID=UTC:20231029T093000
DTSTAMP:20260423T124524
CREATED:20230802T172728Z
LAST-MODIFIED:20230907T152204Z
UID:10001724-1698571800-1698571800@lcor.org
SUMMARY:Fellowship; Christian Ed.
DESCRIPTION:Join us for an opportunity to connect\, chat\, socialize and learn between our Sunday Worship Services. Visit our Adult Sunday School Page to see the upcoming schedule.
URL:https://lcor.org/events-calendar/coffee-and-fellowship-2023-09-24/2023-10-29/
CATEGORIES:Social Event
END:VEVENT
BEGIN:VEVENT
DTSTART;TZID=UTC:20231029T103000
DTEND;TZID=UTC:20231029T103000
DTSTAMP:20260423T124524
CREATED:20230802T173432Z
LAST-MODIFIED:20230807T162503Z
UID:10001610-1698575400-1698575400@lcor.org
SUMMARY:Traditional Worship
DESCRIPTION:Join us Sundays at 10:30 am for our Traditional Worship Service. \nFor questions or to inquire more information\, please contact office@lcor.org.
URL:https://lcor.org/events-calendar/traditional-worship-service/2023-10-29/
CATEGORIES:Worship & Music
END:VEVENT
BEGIN:VEVENT
DTSTART;TZID=UTC:20231029T183000
DTEND;TZID=UTC:20231029T183000
DTSTAMP:20260423T124524
CREATED:20230831T144245Z
LAST-MODIFIED:20230831T144245Z
UID:10001764-1698604200-1698604200@lcor.org
SUMMARY:Confirmation Class
DESCRIPTION:For more information email us at office@lcor.org
URL:https://lcor.org/events-calendar/confirmation-class-3/2023-10-29/
CATEGORIES:Christian Education
END:VEVENT
END:VCALENDAR