BEGIN:VCALENDAR
VERSION:2.0
PRODID:-//Lutheran Church of Our Redeemer - ECPv6.15.20//NONSGML v1.0//EN
CALSCALE:GREGORIAN
METHOD:PUBLISH
X-ORIGINAL-URL:https://lcor.org
X-WR-CALDESC:Events for Lutheran Church of Our Redeemer
REFRESH-INTERVAL;VALUE=DURATION:PT1H
X-Robots-Tag:noindex
X-PUBLISHED-TTL:PT1H
BEGIN:VTIMEZONE
TZID:UTC
BEGIN:STANDARD
TZOFFSETFROM:+0000
TZOFFSETTO:+0000
TZNAME:UTC
DTSTART:20220101T000000
END:STANDARD
END:VTIMEZONE
BEGIN:VEVENT
DTSTART;TZID=UTC:20230604T083000
DTEND;TZID=UTC:20230604T083000
DTSTAMP:20260423T194403
CREATED:20230226T212701Z
LAST-MODIFIED:20230430T224359Z
UID:10001505-1685867400-1685867400@lcor.org
SUMMARY:Contemp. Worship
DESCRIPTION:
URL:https://lcor.org/events-calendar/contemporary-worship-2023-06-04/2023-06-04/
CATEGORIES:Worship & Music
END:VEVENT
BEGIN:VEVENT
DTSTART;TZID=UTC:20230604T091500
DTEND;TZID=UTC:20230604T091500
DTSTAMP:20260423T194403
CREATED:20230226T213007Z
LAST-MODIFIED:20230509T225012Z
UID:10001533-1685870100-1685870100@lcor.org
SUMMARY:Fellowship at 9:15; Semi-Annual Congregation Mtg. at 9:30 am
DESCRIPTION:
URL:https://lcor.org/events-calendar/coffee-fellowship-2023-06-04/
CATEGORIES:Administration
END:VEVENT
BEGIN:VEVENT
DTSTART;TZID=UTC:20230604T100000
DTEND;TZID=UTC:20230604T100000
DTSTAMP:20260423T194403
CREATED:20230226T213131Z
LAST-MODIFIED:20230226T213131Z
UID:10001535-1685872800-1685872800@lcor.org
SUMMARY:Traditional Worship
DESCRIPTION:
URL:https://lcor.org/events-calendar/traditional-worship/2023-06-04/
CATEGORIES:Worship & Music
END:VEVENT
END:VCALENDAR