BEGIN:VCALENDAR
VERSION:2.0
PRODID:-//Lutheran Church of Our Redeemer - ECPv6.15.20//NONSGML v1.0//EN
CALSCALE:GREGORIAN
METHOD:PUBLISH
X-ORIGINAL-URL:https://lcor.org
X-WR-CALDESC:Events for Lutheran Church of Our Redeemer
REFRESH-INTERVAL;VALUE=DURATION:PT1H
X-Robots-Tag:noindex
X-PUBLISHED-TTL:PT1H
BEGIN:VTIMEZONE
TZID:UTC
BEGIN:STANDARD
TZOFFSETFROM:+0000
TZOFFSETTO:+0000
TZNAME:UTC
DTSTART:20220101T000000
END:STANDARD
END:VTIMEZONE
BEGIN:VEVENT
DTSTART;TZID=UTC:20230521T083000
DTEND;TZID=UTC:20230521T083000
DTSTAMP:20260423T194426
CREATED:20220504T200730Z
LAST-MODIFIED:20230226T205450Z
UID:10001093-1684657800-1684657800@lcor.org
SUMMARY:Contemp. Worship
DESCRIPTION:
URL:https://lcor.org/events-calendar/contemporary-worship-service-with-holy-communion/2023-05-21/
CATEGORIES:Worship & Music
END:VEVENT
BEGIN:VEVENT
DTSTART;TZID=UTC:20230521T091500
DTEND;TZID=UTC:20230521T091500
DTSTAMP:20260423T194426
CREATED:20220829T013104Z
LAST-MODIFIED:20230430T224723Z
UID:10001445-1684660500-1684660500@lcor.org
SUMMARY:Fellowship at 9:15; Sundae Sunday at 9:30
DESCRIPTION:
URL:https://lcor.org/events-calendar/fellowship-2022-09-18-2023-05-21/
END:VEVENT
BEGIN:VEVENT
DTSTART;TZID=UTC:20230521T103000
DTEND;TZID=UTC:20230521T103000
DTSTAMP:20260423T194426
CREATED:20220504T201337Z
LAST-MODIFIED:20230226T203125Z
UID:10001209-1684665000-1684665000@lcor.org
SUMMARY:Traditional Worship
DESCRIPTION:
URL:https://lcor.org/events-calendar/traditional-worship-service-with-holy-communion-2022-12-04/2023-05-21/
CATEGORIES:Worship & Music
END:VEVENT
END:VCALENDAR