BEGIN:VCALENDAR
VERSION:2.0
PRODID:-//Lutheran Church of Our Redeemer - ECPv6.15.20//NONSGML v1.0//EN
CALSCALE:GREGORIAN
METHOD:PUBLISH
X-WR-CALNAME:Lutheran Church of Our Redeemer
X-ORIGINAL-URL:https://lcor.org
X-WR-CALDESC:Events for Lutheran Church of Our Redeemer
REFRESH-INTERVAL;VALUE=DURATION:PT1H
X-Robots-Tag:noindex
X-PUBLISHED-TTL:PT1H
BEGIN:VTIMEZONE
TZID:UTC
BEGIN:STANDARD
TZOFFSETFROM:+0000
TZOFFSETTO:+0000
TZNAME:UTC
DTSTART:20210101T000000
END:STANDARD
END:VTIMEZONE
BEGIN:VEVENT
DTSTART;TZID=UTC:20221127T083000
DTEND;TZID=UTC:20221127T083000
DTSTAMP:20260424T152900
CREATED:20220504T200730Z
LAST-MODIFIED:20230226T205450Z
UID:10001072-1669537800-1669537800@lcor.org
SUMMARY:Contemp. Worship
DESCRIPTION:
URL:https://lcor.org/events-calendar/contemporary-worship-service-with-holy-communion/2022-11-27/
CATEGORIES:Worship & Music
END:VEVENT
BEGIN:VEVENT
DTSTART;TZID=UTC:20221127T091500
DTEND;TZID=UTC:20221127T091500
DTSTAMP:20260424T152900
CREATED:20220829T013104Z
LAST-MODIFIED:20230226T205936Z
UID:10001387-1669540500-1669540500@lcor.org
SUMMARY:Fellowship at 9:15; Christian Ed. at 9:30
DESCRIPTION:
URL:https://lcor.org/events-calendar/fellowship-2022-09-18/2022-11-27/
END:VEVENT
BEGIN:VEVENT
DTSTART;TZID=UTC:20221127T093000
DTEND;TZID=UTC:20221127T093000
DTSTAMP:20260424T152900
CREATED:20221031T003115Z
LAST-MODIFIED:20221031T003115Z
UID:10001426-1669541400-1669541400@lcor.org
SUMMARY:No Sunday School or Confirmation Class
DESCRIPTION:
URL:https://lcor.org/events-calendar/no-sunday-school-or-confirmation-class/
END:VEVENT
BEGIN:VEVENT
DTSTART;TZID=UTC:20221127T093000
DTEND;TZID=UTC:20221127T093000
DTSTAMP:20260424T152900
CREATED:20221031T003343Z
LAST-MODIFIED:20221031T003343Z
UID:10001427-1669541400-1669541400@lcor.org
SUMMARY:Adult Ed. Class
DESCRIPTION:
URL:https://lcor.org/events-calendar/adult-ed-class/
END:VEVENT
BEGIN:VEVENT
DTSTART;TZID=UTC:20221127T093000
DTEND;TZID=UTC:20221127T093000
DTSTAMP:20260424T152900
CREATED:20221031T195515Z
LAST-MODIFIED:20221031T195515Z
UID:10001432-1669541400-1669541400@lcor.org
SUMMARY:No Sunday School or Confirmation Class
DESCRIPTION:
URL:https://lcor.org/events-calendar/no-sunday-school-or-confirmation-class-2/
END:VEVENT
BEGIN:VEVENT
DTSTART;TZID=UTC:20221127T103000
DTEND;TZID=UTC:20221127T103000
DTSTAMP:20260424T152900
CREATED:20220504T201337Z
LAST-MODIFIED:20221031T020526Z
UID:10001185-1669545000-1669545000@lcor.org
SUMMARY:Traditional Worship Service
DESCRIPTION:
URL:https://lcor.org/events-calendar/traditional-worship-service-with-holy-communion-2022-11-06/2022-11-27/
END:VEVENT
BEGIN:VEVENT
DTSTART;TZID=UTC:20221127T103000
DTEND;TZID=UTC:20221127T113000
DTSTAMP:20260424T152900
CREATED:20220504T201337Z
LAST-MODIFIED:20220627T200521Z
UID:10001188-1669545000-1669548600@lcor.org
SUMMARY:Traditional Worship Service with Holy Communion
DESCRIPTION:
URL:https://lcor.org/events-calendar/traditional-worship-service-with-holy-communion-2022-11-27/
END:VEVENT
END:VCALENDAR