BEGIN:VCALENDAR
VERSION:2.0
PRODID:-//Lutheran Church of Our Redeemer - ECPv6.15.20//NONSGML v1.0//EN
CALSCALE:GREGORIAN
METHOD:PUBLISH
X-ORIGINAL-URL:https://lcor.org
X-WR-CALDESC:Events for Lutheran Church of Our Redeemer
REFRESH-INTERVAL;VALUE=DURATION:PT1H
X-Robots-Tag:noindex
X-PUBLISHED-TTL:PT1H
BEGIN:VTIMEZONE
TZID:UTC
BEGIN:STANDARD
TZOFFSETFROM:+0000
TZOFFSETTO:+0000
TZNAME:UTC
DTSTART:20210101T000000
END:STANDARD
END:VTIMEZONE
BEGIN:VEVENT
DTSTART;TZID=UTC:20220918T083000
DTEND;TZID=UTC:20220918T083000
DTSTAMP:20260425T013420
CREATED:20220504T200730Z
LAST-MODIFIED:20230226T205450Z
UID:10001062-1663489800-1663489800@lcor.org
SUMMARY:Contemp. Worship
DESCRIPTION:
URL:https://lcor.org/events-calendar/contemporary-worship-service-with-holy-communion/2022-09-18/
CATEGORIES:Worship & Music
END:VEVENT
BEGIN:VEVENT
DTSTART;TZID=UTC:20220918T091500
DTEND;TZID=UTC:20220918T091500
DTSTAMP:20260425T013420
CREATED:20220829T013104Z
LAST-MODIFIED:20230226T205936Z
UID:10001377-1663492500-1663492500@lcor.org
SUMMARY:Fellowship at 9:15; Christian Ed. at 9:30
DESCRIPTION:
URL:https://lcor.org/events-calendar/fellowship-2022-09-18/2022-09-18/
END:VEVENT
BEGIN:VEVENT
DTSTART;TZID=UTC:20220918T093000
DTEND;TZID=UTC:20220918T101500
DTSTAMP:20260425T013420
CREATED:20220829T013410Z
LAST-MODIFIED:20220829T020034Z
UID:10001376-1663493400-1663496100@lcor.org
SUMMARY:Christian Ed. - No Confirmation Class
DESCRIPTION:
URL:https://lcor.org/events-calendar/christian-ed-2022-09-18/
END:VEVENT
BEGIN:VEVENT
DTSTART;TZID=UTC:20220918T103000
DTEND;TZID=UTC:20220918T113000
DTSTAMP:20260425T013420
CREATED:20220504T201337Z
LAST-MODIFIED:20220627T202924Z
UID:10001099-1663497000-1663500600@lcor.org
SUMMARY:Traditional Worship Service with Holy Communion
DESCRIPTION:
URL:https://lcor.org/events-calendar/traditional-worship-service-with-holy-communion-2022-09-18/
END:VEVENT
END:VCALENDAR