BEGIN:VCALENDAR
VERSION:2.0
PRODID:-//Lutheran Church of Our Redeemer - ECPv6.15.20//NONSGML v1.0//EN
CALSCALE:GREGORIAN
METHOD:PUBLISH
X-ORIGINAL-URL:https://lcor.org
X-WR-CALDESC:Events for Lutheran Church of Our Redeemer
REFRESH-INTERVAL;VALUE=DURATION:PT1H
X-Robots-Tag:noindex
X-PUBLISHED-TTL:PT1H
BEGIN:VTIMEZONE
TZID:UTC
BEGIN:STANDARD
TZOFFSETFROM:+0000
TZOFFSETTO:+0000
TZNAME:UTC
DTSTART:20210101T000000
END:STANDARD
END:VTIMEZONE
BEGIN:VEVENT
DTSTART;VALUE=DATE:20220911
DTEND;VALUE=DATE:20220912
DTSTAMP:20260425T013419
CREATED:20220830T032922Z
LAST-MODIFIED:20220830T033311Z
UID:10001404-1662854400-1662940799@lcor.org
SUMMARY:Rally Day - 8:30 to 11:30 am
DESCRIPTION:
URL:https://lcor.org/events-calendar/rally-day/
END:VEVENT
BEGIN:VEVENT
DTSTART;TZID=UTC:20220911T083000
DTEND;TZID=UTC:20220911T083000
DTSTAMP:20260425T013419
CREATED:20220504T200730Z
LAST-MODIFIED:20230226T205450Z
UID:10001061-1662885000-1662885000@lcor.org
SUMMARY:Contemp. Worship
DESCRIPTION:
URL:https://lcor.org/events-calendar/contemporary-worship-service-with-holy-communion/2022-09-11/
CATEGORIES:Worship & Music
END:VEVENT
BEGIN:VEVENT
DTSTART;TZID=UTC:20220911T091500
DTEND;TZID=UTC:20220911T091500
DTSTAMP:20260425T013419
CREATED:20220829T013104Z
LAST-MODIFIED:20220830T032451Z
UID:10001374-1662887700-1662887700@lcor.org
SUMMARY:Fellowship - Mini picnic
DESCRIPTION:
URL:https://lcor.org/events-calendar/fellowship/
END:VEVENT
BEGIN:VEVENT
DTSTART;TZID=UTC:20220911T093000
DTEND;TZID=UTC:20220911T101500
DTSTAMP:20260425T013419
CREATED:20220829T013410Z
LAST-MODIFIED:20220829T015222Z
UID:10001375-1662888600-1662891300@lcor.org
SUMMARY:Christian Ed. - All Ages Service Project
DESCRIPTION:
URL:https://lcor.org/events-calendar/christian-ed/
END:VEVENT
BEGIN:VEVENT
DTSTART;TZID=UTC:20220911T103000
DTEND;TZID=UTC:20220911T113000
DTSTAMP:20260425T013419
CREATED:20220504T201337Z
LAST-MODIFIED:20220627T203159Z
UID:10001098-1662892200-1662895800@lcor.org
SUMMARY:Traditional Worship Service with Holy Communion
DESCRIPTION:
URL:https://lcor.org/events-calendar/traditional-worship-service-with-holy-communion/
END:VEVENT
END:VCALENDAR