BEGIN:VCALENDAR
VERSION:2.0
PRODID:-//Lutheran Church of Our Redeemer - ECPv6.15.20//NONSGML v1.0//EN
CALSCALE:GREGORIAN
METHOD:PUBLISH
X-WR-CALNAME:Lutheran Church of Our Redeemer
X-ORIGINAL-URL:https://lcor.org
X-WR-CALDESC:Events for Lutheran Church of Our Redeemer
REFRESH-INTERVAL;VALUE=DURATION:PT1H
X-Robots-Tag:noindex
X-PUBLISHED-TTL:PT1H
BEGIN:VTIMEZONE
TZID:UTC
BEGIN:STANDARD
TZOFFSETFROM:+0000
TZOFFSETTO:+0000
TZNAME:UTC
DTSTART:20210101T000000
END:STANDARD
END:VTIMEZONE
BEGIN:VEVENT
DTSTART;TZID=UTC:20220710T083000
DTEND;TZID=UTC:20220710T093000
DTSTAMP:20260425T031343
CREATED:20220429T184748Z
LAST-MODIFIED:20220511T182549Z
UID:10001146-1657441800-1657445400@lcor.org
SUMMARY:Contemporary Worship with Holy Communion
DESCRIPTION:
URL:https://lcor.org/events-calendar/contemporary-worship-with-holy-communion/2022-07-10/
END:VEVENT
BEGIN:VEVENT
DTSTART;TZID=UTC:20220710T093000
DTEND;TZID=UTC:20220710T100000
DTSTAMP:20260425T031343
CREATED:20220429T185304Z
LAST-MODIFIED:20220511T182730Z
UID:10001051-1657445400-1657447200@lcor.org
SUMMARY:Coffee and Fellowship Time
DESCRIPTION:
URL:https://lcor.org/events-calendar/coffee-and-fellowship-time-2022-06-12/2022-07-10/
END:VEVENT
BEGIN:VEVENT
DTSTART;TZID=UTC:20220710T100000
DTEND;TZID=UTC:20220710T110000
DTSTAMP:20260425T031343
CREATED:20220429T185358Z
LAST-MODIFIED:20220526T160921Z
UID:10001172-1657447200-1657450800@lcor.org
SUMMARY:Traditional Worship with Holy Communion
DESCRIPTION:
URL:https://lcor.org/events-calendar/traditional-worship-with-holy-communion-2022-06-12-2022-06-19/2022-07-10/
END:VEVENT
END:VCALENDAR